BEGIN:VCALENDAR
VERSION:2.0
PRODID:-//DKKV Dajaks - ECPv6.15.20//NONSGML v1.0//EN
CALSCALE:GREGORIAN
METHOD:PUBLISH
X-WR-CALNAME:DKKV Dajaks
X-ORIGINAL-URL:https://www.dajaks.nl
X-WR-CALDESC:Evenementen voor DKKV Dajaks
REFRESH-INTERVAL;VALUE=DURATION:PT1H
X-Robots-Tag:noindex
X-PUBLISHED-TTL:PT1H
BEGIN:VTIMEZONE
TZID:Europe/Amsterdam
BEGIN:DAYLIGHT
TZOFFSETFROM:+0100
TZOFFSETTO:+0200
TZNAME:CEST
DTSTART:20250330T010000
END:DAYLIGHT
BEGIN:STANDARD
TZOFFSETFROM:+0200
TZOFFSETTO:+0100
TZNAME:CET
DTSTART:20251026T010000
END:STANDARD
BEGIN:DAYLIGHT
TZOFFSETFROM:+0100
TZOFFSETTO:+0200
TZNAME:CEST
DTSTART:20260329T010000
END:DAYLIGHT
BEGIN:STANDARD
TZOFFSETFROM:+0200
TZOFFSETTO:+0100
TZNAME:CET
DTSTART:20261025T010000
END:STANDARD
BEGIN:DAYLIGHT
TZOFFSETFROM:+0100
TZOFFSETTO:+0200
TZNAME:CEST
DTSTART:20270328T010000
END:DAYLIGHT
BEGIN:STANDARD
TZOFFSETFROM:+0200
TZOFFSETTO:+0100
TZNAME:CET
DTSTART:20271031T010000
END:STANDARD
END:VTIMEZONE
BEGIN:VEVENT
DTSTART;TZID=Europe/Amsterdam:20260417T080000
DTEND;TZID=Europe/Amsterdam:20260419T170000
DTSTAMP:20260422T130226
CREATED:20260303T200418Z
LAST-MODIFIED:20260303T200422Z
UID:4836-1776412800-1776618000@www.dajaks.nl
SUMMARY:🛶 Weekend Ossenzijl
DESCRIPTION:Dit voorjaars-kampeerweekend wordt gehouden op camping de Kluft in Ossenzijl. Het weekend staat in het teken van lekker weg zijn in de weerribben\, het kanoparadijs van Nederland.De te peddelen afstand wordt dagelijks afgesproken met de mensen die meegaan
URL:https://www.dajaks.nl/event/%f0%9f%9b%b6-weekend-ossenzijl/
LOCATION:Camping de Kluft\, Hoogeweg 26\, Ossenzijl\, 8376 EM\, Netherlands
CATEGORIES:1,Clubtochten,Geschikt voor welk vaartuig,Kajak,Niveau,Open kano
ATTACH;FMTTYPE=image/jpeg:https://www.dajaks.nl/wp-content/uploads/2026/03/camping-de-Kluft.jpg
ORGANIZER;CN="Raymond Hartog":MAILTO:simonsrj@gmail.com
END:VEVENT
BEGIN:VEVENT
DTSTART;TZID=Europe/Amsterdam:20260412T170000
DTEND;TZID=Europe/Amsterdam:20260412T200000
DTSTAMP:20260422T130226
CREATED:20260210T193000Z
LAST-MODIFIED:20260404T131748Z
UID:4596-1776013200-1776024000@www.dajaks.nl
SUMMARY:🛶 BLEISWIJK\, DEEL 3 BBQ
DESCRIPTION:De kanoshop organiseert een BBQ\, waar wij na het tochtje (deel 2a) of het KVA examen (deel 2b) kunnen aanschuiven. de kanoshop zorgt voor salades\, friet\, stokbrood en sauzen\, we moeten zelf vlees of vleesvervangers regelen. Kosten 5\,00 euro.
URL:https://www.dajaks.nl/event/bleiswijk-deel-3/
LOCATION:Kanoshop\, Hoeksekade 141\, Bergschenhoek\, 2661JL\, Netherlands
CATEGORIES:1,Clubtochten,Kajak,Open kano
END:VEVENT
BEGIN:VEVENT
DTSTART;TZID=Europe/Amsterdam:20260412T140000
DTEND;TZID=Europe/Amsterdam:20260412T163000
DTSTAMP:20260422T130226
CREATED:20260210T193000Z
LAST-MODIFIED:20260404T131741Z
UID:4586-1776002400-1776011400@www.dajaks.nl
SUMMARY:🛶 BLEISWIJK\, DEEL 2B middag tocht
DESCRIPTION:We varen nu in de buurt van de Kanoshop op de Rottemeren. Ook hier zullen we twee overdraag momenten hebben. We genieten van de relatieve rust in Rotterdam en hopen dat onze mede clubgenoten het KVA examen allemaal zullen halen.
URL:https://www.dajaks.nl/event/deel-2b-tweede-tocht-in-bleiswijk/
LOCATION:Kanoshop\, Hoeksekade 141\, Bergschenhoek\, 2661JL\, Netherlands
CATEGORIES:1,Clubtochten,Kajak,Open kano
END:VEVENT
BEGIN:VEVENT
DTSTART;TZID=Europe/Amsterdam:20260412T090000
DTEND;TZID=Europe/Amsterdam:20260412T200000
DTSTAMP:20260422T130226
CREATED:20260210T193000Z
LAST-MODIFIED:20260404T131726Z
UID:4379-1775984400-1776024000@www.dajaks.nl
SUMMARY:🛶 BLEISWIJK\, DEEL 1 Ochtend TOCHT\, KANOSHOP\, uitproberen kano's/kanospullen
DESCRIPTION:Om 09:00 vertrekken we van de club\, afhankelijk of je een kano/kajak wil uitproberen bij de Kanoshop nemen we (club)kajaks/kano’s mee of gebruiken we een kano/kajak van de Kanoshop. \n\n\n\nOm 10:00 komen we bij de kano shop aan\, waar we kano’s kunnen bekijken en uitproberen in het tochtje.  \n\n\n\nRond 11:00 varen we een klein tochtje waarbij we ook over de Rotte varen. Er zijn twee overdragingen noodzakelijk. \n\n\n\nAls we trek beginnen te krijgen rond 13:00 dan zijn we weer terug bij Zwalker. Daar lunchen we. Je kan de dag nu afsluiten of verder gaan naar twee opties DEEL2a KVA examen en DEEL2b een extra tocht van 10 kilometer\, maar je kan ook\, mits je zelf vervoer hebt geregeld naar huis gaan. Maar dan mis je wel een tweede tocht\, eeuwig respect als je een examen afgerond hebt en een volle maag van een overheerlijke BBQ.
URL:https://www.dajaks.nl/event/deel-1-bleiswijk-ochtend-tocht-kanoshop-uitproberen-kanos-kanospullen/
LOCATION:Kanoshop\, Hoeksekade 141\, Bergschenhoek\, 2661JL\, Netherlands
CATEGORIES:1,Clubtochten,Kajak,Open kano
END:VEVENT
BEGIN:VEVENT
DTSTART;TZID=Europe/Amsterdam:20260308T110000
DTEND;TZID=Europe/Amsterdam:20260308T150000
DTSTAMP:20260422T130226
CREATED:20260210T193000Z
LAST-MODIFIED:20260224T173818Z
UID:4601-1772967600-1772982000@www.dajaks.nl
SUMMARY:🛶 snerttocht
DESCRIPTION:De inmiddels traditionele snerttocht uiteraard met erwtensoep\, die we tijdens een stop lekker warm maken. Neem een eigen bakje of mok mee. Geef voor 6 maart aan Gerrie door of je soep met vlees wilt of liever vegetarisch\, en geef dan ook door of je mee wilt in een eigen boot of in de C11.Vertrek om 11:00 bij de brandweersteiger \n\n\n\n\n\n\n\n\n\n 
URL:https://www.dajaks.nl/event/snerttocht/
LOCATION:Dajaks Clubhuis\, zeedijk 17\, Dordrecht\, Zuid Holland\, 3329 LC\, Nederland
CATEGORIES:1,Clubtochten,Kajak,Open kano
ATTACH;FMTTYPE=image/jpeg:https://www.dajaks.nl/wp-content/uploads/2026/02/snerttocht.jpg
ORGANIZER;CN="Gerrie van Stuijvenberg":MAILTO:stuijfmail@gmail.com
END:VEVENT
END:VCALENDAR